BEGIN:VCALENDAR
VERSION:2.0
PRODID:-//OmniMagnetCalendar//EN
BEGIN:VEVENT
DTSTAMP:20190625T195740Z
STATUS:CONFIRMED
UID:hcdc.clubs.harvard.edu2307
DTSTART:20220628T203000Z
DTEND:20220628T203000Z
LOCATION:VIRTUAL,
SUMMARY:VIRTUAL: Docent-led Artist-to-Artist Tour at the Smithsonian American Art Museum
DESCRIPTION:Docent Donna Fowler will explain how artists seek the camaraderie of their peers and often do not work in solitude as many may think. Limited to Harvard Club members and their guests.
BEGIN:VALARM
TRIGGER:-PT15M
ACTION:DISPLAY
END:VALARM
TRANSP:OPAQUE
END:VEVENT
END:VCALENDAR
