BEGIN:VCALENDAR
VERSION:2.0
PRODID:-//OmniMagnetCalendar//EN
BEGIN:VEVENT
DTSTAMP:20190625T195740Z
STATUS:CONFIRMED
UID:hcdc.clubs.harvard.edu2306
DTSTART:20220717T130000Z
DTEND:20220717T130000Z
LOCATION:Visitors Center, Kenilworth Aquatic Gardens, 1550 Anacostia Ave NE, Washington, DC, 20019,
SUMMARY:IN PERSON: Two-Part Hike: Lotus Heaven at Kenilworth Aquatic Gardens
DESCRIPTION:Meet @Visitor Center, 1550 Anacostia Avenue, NE. This two-part hike: (1.5 miles) + Optional Extension to Bladensburg (5 miles) will be led by club member and master hiker, Barbara Saffir. This FREE hike is limited to Harvard Club members and their guests
BEGIN:VALARM
TRIGGER:-PT15M
ACTION:DISPLAY
END:VALARM
TRANSP:OPAQUE
END:VEVENT
END:VCALENDAR
