BEGIN:VCALENDAR
VERSION:2.0
PRODID:-//OmniMagnetCalendar//EN
BEGIN:VEVENT
DTSTAMP:20190625T195740Z
STATUS:CONFIRMED
UID:hcdc.clubs.harvard.edu2305
DTSTART:20220618T130000Z
DTEND:20220618T160000Z
LOCATION:Rosslyn Metro Station,   1700 N Moore Street, Arlington, VA, 22209,
SUMMARY:IN PERSON: Roosevelt Island Nature and Fitness Hike - Limited to Members and their Guests
DESCRIPTION:Please join us and Master Hiker Barbara Saffir for a nature & fitness hike from the Rosslyn Metro to Roosevelt Island and back. 
BEGIN:VALARM
TRIGGER:-PT15M
ACTION:DISPLAY
END:VALARM
TRANSP:OPAQUE
END:VEVENT
END:VCALENDAR
