BEGIN:VCALENDAR
VERSION:2.0
PRODID:-//OmniMagnetCalendar//EN
BEGIN:VEVENT
DTSTAMP:20190625T195740Z
STATUS:CONFIRMED
UID:hcdc.clubs.harvard.edu2303
DTSTART:20220621T223000Z
DTEND:20220622T003000Z
LOCATION:Hogan Lovells, 555 13th Street, NW, Washington, DC, 20004, USA,
SUMMARY:SOLD OUT: IN PERSON: Looking Up with Weatherman Matthew Cappucci AB '19
DESCRIPTION:Join us and the youngest person nationwide to work in the top-ten TV market as an on-air meteorologist for drinks and dinner. 
BEGIN:VALARM
TRIGGER:-PT15M
ACTION:DISPLAY
END:VALARM
TRANSP:OPAQUE
END:VEVENT
END:VCALENDAR
