BEGIN:VCALENDAR
VERSION:2.0
PRODID:-//OmniMagnetCalendar//EN
BEGIN:VEVENT
DTSTAMP:20190625T195740Z
STATUS:CONFIRMED
UID:hcdc.clubs.harvard.edu2299
DTSTART:20220408T223000Z
DTEND:20220409T010000Z
LOCATION:Q STREET FINE ART, 2015 Q Street NW, Washington , DC, 20009,
SUMMARY:IN PERSON: Ivy Social Club - Q Street Fine Art
DESCRIPTION:Join the Cornell Club of Washington and Ivy Social Club for an evening of exceptional company and conversation.
BEGIN:VALARM
TRIGGER:-PT15M
ACTION:DISPLAY
END:VALARM
TRANSP:OPAQUE
END:VEVENT
END:VCALENDAR
