BEGIN:VCALENDAR
VERSION:2.0
PRODID:-//OmniMagnetCalendar//EN
BEGIN:VEVENT
DTSTAMP:20190625T195740Z
STATUS:CONFIRMED
UID:hcdc.clubs.harvard.edu2298
DTSTART:20220614T220000Z
DTEND:20220615T000000Z
LOCATION:VIRTUAL,
SUMMARY:VIRTUAL: 2022 Annual Meeting of the Harvard Club 
DESCRIPTION:Join fellow Harvard Club members as we come together to review the past year and chart a course for the future. This once IN PERSON event will now be VIRTUAL.
BEGIN:VALARM
TRIGGER:-PT15M
ACTION:DISPLAY
END:VALARM
TRANSP:OPAQUE
END:VEVENT
END:VCALENDAR
