BEGIN:VCALENDAR
VERSION:2.0
PRODID:-//OmniMagnetCalendar//EN
BEGIN:VEVENT
DTSTAMP:20190625T195740Z
STATUS:CONFIRMED
UID:hcdc.clubs.harvard.edu2294
DTSTART:20220428T230000Z
DTEND:20220429T000000Z
LOCATION:VIRTUAL,
SUMMARY:[VIRTUAL] How the Color Line Bends with Author Nina Yancy ‘13
DESCRIPTION:The Geography of White Prejudice in Modern America.
BEGIN:VALARM
TRIGGER:-PT15M
ACTION:DISPLAY
END:VALARM
TRANSP:OPAQUE
END:VEVENT
END:VCALENDAR
