BEGIN:VCALENDAR
VERSION:2.0
PRODID:-//OmniMagnetCalendar//EN
BEGIN:VEVENT
DTSTAMP:20190625T195740Z
STATUS:CONFIRMED
UID:hcdc.clubs.harvard.edu2287
DTSTART:20220601T223000Z
DTEND:20220602T000000Z
LOCATION:VIRTUAL,
SUMMARY:VIRTUAL: American Masterplan: Commemorating the 75th Anniversary of the Marshall Plan
DESCRIPTION:The Columbia Club of Washington DC invites you to a three-part discussion about Secretary Marshall's June 1947 speech at Harvard.
BEGIN:VALARM
TRIGGER:-PT15M
ACTION:DISPLAY
END:VALARM
TRANSP:OPAQUE
END:VEVENT
END:VCALENDAR
