BEGIN:VCALENDAR
VERSION:2.0
PRODID:-//OmniMagnetCalendar//EN
BEGIN:VEVENT
DTSTAMP:20190625T195740Z
STATUS:CONFIRMED
UID:hcdc.clubs.harvard.edu2286
DTSTART:20220330T220000Z
DTEND:20220330T230000Z
LOCATION:VIRTUAL,
SUMMARY:[VIRTUAL] A Conversation with HAA President Vanessa Liu ’96, J.D. ’03
DESCRIPTION:In addition to discussing her priorities as HAA President, Vanessa will describe her personal and professional journey since graduating from Harvard.
BEGIN:VALARM
TRIGGER:-PT15M
ACTION:DISPLAY
END:VALARM
TRANSP:OPAQUE
END:VEVENT
END:VCALENDAR
