BEGIN:VCALENDAR
VERSION:2.0
PRODID:-//OmniMagnetCalendar//EN
BEGIN:VEVENT
DTSTAMP:20190625T195740Z
STATUS:CONFIRMED
UID:hcdc.clubs.harvard.edu2283
DTSTART:20220328T160000Z
DTEND:20220328T170000Z
LOCATION:VIRTUAL,
SUMMARY:[VIRTUAL] Unthinkable: Trauma, Truth, and the Trials of American Democracy
DESCRIPTION:The Harvard Clubs of Boston, Ireland and Washington DC bring to you Congressman Jamie Raskin to discuss how he got through the tragic death of his son while struggling to preserve our democracy.
BEGIN:VALARM
TRIGGER:-PT15M
ACTION:DISPLAY
END:VALARM
TRANSP:OPAQUE
END:VEVENT
END:VCALENDAR
