BEGIN:VCALENDAR
VERSION:2.0
PRODID:-//OmniMagnetCalendar//EN
BEGIN:VEVENT
DTSTAMP:20190625T195740Z
STATUS:CONFIRMED
UID:hcdc.clubs.harvard.edu2278
DTSTART:20220329T220000Z
DTEND:20220329T230000Z
LOCATION:VIRTUAL,
SUMMARY:[VIRTUAL] Tethered Lives: Parenthood, Partnership, and Gender Inequality in the United States
DESCRIPTION:Harvard Professor Sasha Killewald will talk about the relationships among work, family and money.
BEGIN:VALARM
TRIGGER:-PT15M
ACTION:DISPLAY
END:VALARM
TRANSP:OPAQUE
END:VEVENT
END:VCALENDAR
