BEGIN:VCALENDAR
VERSION:2.0
PRODID:-//OmniMagnetCalendar//EN
BEGIN:VEVENT
DTSTAMP:20190625T195740Z
STATUS:CONFIRMED
UID:hcdc.clubs.harvard.edu2277
DTSTART:20220409T140000Z
DTEND:20220409T170000Z
LOCATION:2501 Mill Road NW, Washington , DC, 20007,
SUMMARY:[IN PERSON] Volunteer Opportunity with Mt. Zion Historical Memorial Park
DESCRIPTION:Join us for an outdoor preservation project. 
BEGIN:VALARM
TRIGGER:-PT15M
ACTION:DISPLAY
END:VALARM
TRANSP:OPAQUE
END:VEVENT
END:VCALENDAR
