BEGIN:VCALENDAR
VERSION:2.0
PRODID:-//OmniMagnetCalendar//EN
BEGIN:VEVENT
DTSTAMP:20190625T195740Z
STATUS:CONFIRMED
UID:hcdc.clubs.harvard.edu2276
DTSTART:20220322T223000Z
DTEND:20220323T000000Z
LOCATION:VIRTUAL,
SUMMARY:[VIRTUAL] Madam C. J. Walker: The First Self-Made American Woman Millionaire
DESCRIPTION:Cosponsored by: Columbia University Club of New York, Brown University Club of DC, MIT Club of Washington DC and Harvard Club of Washington DC.
BEGIN:VALARM
TRIGGER:-PT15M
ACTION:DISPLAY
END:VALARM
TRANSP:OPAQUE
END:VEVENT
END:VCALENDAR
