BEGIN:VCALENDAR
VERSION:2.0
PRODID:-//OmniMagnetCalendar//EN
BEGIN:VEVENT
DTSTAMP:20190625T195740Z
STATUS:CONFIRMED
UID:hcdc.clubs.harvard.edu2274
DTSTART:20220405T003000Z
DTEND:20220405T020000Z
LOCATION:VIRTUAL,
SUMMARY:[VIRTUAL] How to Both Avoid Arthritis and Stay Active to Play the Sports You Love Until Age 100
DESCRIPTION:Join the Harvard Club of San Francisco and Kevin R. Stone M.D. '77, Chairman of the Stone Research Foundation. 
BEGIN:VALARM
TRIGGER:-PT15M
ACTION:DISPLAY
END:VALARM
TRANSP:OPAQUE
END:VEVENT
END:VCALENDAR
