BEGIN:VCALENDAR
VERSION:2.0
PRODID:-//OmniMagnetCalendar//EN
BEGIN:VEVENT
DTSTAMP:20190625T195740Z
STATUS:CONFIRMED
UID:hcdc.clubs.harvard.edu2271
DTSTART:20220408T230000Z
DTEND:20220409T023000Z
LOCATION:Arena Stage, 1101 6th Street Southwest, Washington , DC, 20024,
SUMMARY:[IN PERSON] Harvard Club Night at Arena Stage
DESCRIPTION:Join us for a special musical theatre event hosted by the Harvard Club: a private pre-show tour followed a rousing performance of Catch Me If You Can.
BEGIN:VALARM
TRIGGER:-PT15M
ACTION:DISPLAY
END:VALARM
TRANSP:OPAQUE
END:VEVENT
END:VCALENDAR
