BEGIN:VCALENDAR
VERSION:2.0
PRODID:-//OmniMagnetCalendar//EN
BEGIN:VEVENT
DTSTAMP:20190625T195740Z
STATUS:CONFIRMED
UID:hcdc.clubs.harvard.edu2269
DTSTART:20220719T220000Z
DTEND:20220719T230000Z
LOCATION:VIRTUAL,
SUMMARY:VIRTUAL: Jonathan White on his New Book A House Built By Slaves
DESCRIPTION:The story of how President Lincoln welcomed African Americans to the White House in America’s most divided and war-torn era. 
BEGIN:VALARM
TRIGGER:-PT15M
ACTION:DISPLAY
END:VALARM
TRANSP:OPAQUE
END:VEVENT
END:VCALENDAR
