BEGIN:VCALENDAR
VERSION:2.0
PRODID:-//OmniMagnetCalendar//EN
BEGIN:VEVENT
DTSTAMP:20190625T195740Z
STATUS:CONFIRMED
UID:hcdc.clubs.harvard.edu2267
DTSTART:20220515T180000Z
DTEND:20220515T200000Z
LOCATION:GALA Hispanic Theater, 3333 14th Street, Washington, DC, 20010, USA,
SUMMARY:SOLD OUT: IN PERSON: On Your Feet! En Espanol at GALA Hispanic Theater 
DESCRIPTION:Join us for this inspiring true story about heart, heritage, and two people who believed in their talent—and each other—to become an international sensation: Gloria and Emilio Estefan.
BEGIN:VALARM
TRIGGER:-PT15M
ACTION:DISPLAY
END:VALARM
TRANSP:OPAQUE
END:VEVENT
END:VCALENDAR
