BEGIN:VCALENDAR
VERSION:2.0
PRODID:-//OmniMagnetCalendar//EN
BEGIN:VEVENT
DTSTAMP:20190625T195740Z
STATUS:CONFIRMED
UID:hcdc.clubs.harvard.edu2266
DTSTART:20220317T223000Z
DTEND:20220318T010000Z
LOCATION:Busboys and Poets, 625 Monroe Street, NE, Washington , DC, 20017, USA,
SUMMARY:[IN PERSON] Saint Patrick's Day Party
DESCRIPTION:Join us at Busboys and Poets (Brookland) for songs, laughter and contests. Registration is limited to Harvard, Barnard, Brown, Dartmouth, Columbia, INSEAD, MIT and Smith Club Members and their guests. 
BEGIN:VALARM
TRIGGER:-PT15M
ACTION:DISPLAY
END:VALARM
TRANSP:OPAQUE
END:VEVENT
END:VCALENDAR
