BEGIN:VCALENDAR
VERSION:2.0
PRODID:-//OmniMagnetCalendar//EN
BEGIN:VEVENT
DTSTAMP:20190625T195740Z
STATUS:CONFIRMED
UID:hcdc.clubs.harvard.edu2264
DTSTART:20220404T220000Z
DTEND:20220404T233000Z
LOCATION:Brasserie Liberté, 3251 Prospect Street, NW, Washington, DC, 20007, USA,
SUMMARY:[IN PERSON] April Happy Hour Reception at Brasserie Liberté - Limited to Members
DESCRIPTION:Connect with fellow Harvard alumni -- meeting old friends and making new ones. Please be prepared to provide proof of Covid vaccination in order to attend this event. You must also register on our website in advance.
BEGIN:VALARM
TRIGGER:-PT15M
ACTION:DISPLAY
END:VALARM
TRANSP:OPAQUE
END:VEVENT
END:VCALENDAR
