BEGIN:VCALENDAR
VERSION:2.0
PRODID:-//OmniMagnetCalendar//EN
BEGIN:VEVENT
DTSTAMP:20190625T195740Z
STATUS:CONFIRMED
UID:hcdc.clubs.harvard.edu2263
DTSTART:20220403T160000Z
DTEND:20220403T190000Z
LOCATION:Renaissance Washington, DC Hotel, 999 Ninth Street, NW, Washington, DC, 20001, USA,
SUMMARY:[IN PERSON] 2022 Gridiron Sunday Reprise
DESCRIPTION:Ready for some clever political satire set to your favorite tunes? Come experience the iconic Washington event – the annual Gridiron Show.
BEGIN:VALARM
TRIGGER:-PT15M
ACTION:DISPLAY
END:VALARM
TRANSP:OPAQUE
END:VEVENT
END:VCALENDAR
