BEGIN:VCALENDAR
VERSION:2.0
PRODID:-//OmniMagnetCalendar//EN
BEGIN:VEVENT
DTSTAMP:20190625T195740Z
STATUS:CONFIRMED
UID:hcdc.clubs.harvard.edu2261
DTSTART:20220427T220000Z
DTEND:20220427T230000Z
LOCATION:
SUMMARY:[VIRTUAL] A Conversation with Novelist William Maz AB '77 with the Romanian Embassy
DESCRIPTION:Dr. Maz is the author of the recently published The Bucharest Dossier, his debut novel. Mme. Iulia Huiu, Political Officer at the Embassy of Romania, will introduce the novelist.
BEGIN:VALARM
TRIGGER:-PT15M
ACTION:DISPLAY
END:VALARM
TRANSP:OPAQUE
END:VEVENT
END:VCALENDAR
