BEGIN:VCALENDAR
VERSION:2.0
PRODID:-//OmniMagnetCalendar//EN
BEGIN:VEVENT
DTSTAMP:20190625T195740Z
STATUS:CONFIRMED
UID:hcdc.clubs.harvard.edu2255
DTSTART:20220412T220000Z
DTEND:20220412T230000Z
LOCATION:VIRTUAL,
SUMMARY: [VIRTUAL] The U.S. Federal Reserve and Economic Inequality with Karen Petrou
DESCRIPTION:In Engine of Inequality, Petrou offers pragmatic solutions for creating more inclusive monetary policy and equality-enhancing financial regulation.
BEGIN:VALARM
TRIGGER:-PT15M
ACTION:DISPLAY
END:VALARM
TRANSP:OPAQUE
END:VEVENT
END:VCALENDAR
