BEGIN:VCALENDAR
VERSION:2.0
PRODID:-//OmniMagnetCalendar//EN
BEGIN:VEVENT
DTSTAMP:20190625T195740Z
STATUS:CONFIRMED
UID:hcdc.clubs.harvard.edu2250
DTSTART:20220510T220000Z
DTEND:20220510T230000Z
LOCATION:
SUMMARY:SOLD OUT: VIRTUAL: The Great Kosher Meat War of 1902 with Author and Historian Scott D. Seligman
DESCRIPTION:Seligman will discuss his recent award-winning book on the latent power of immigrant housewives and the riots that shook New York City at the very beginning of the 20th century. The Columbia and Princeton Clubs will join us.
BEGIN:VALARM
TRIGGER:-PT15M
ACTION:DISPLAY
END:VALARM
TRANSP:OPAQUE
END:VEVENT
END:VCALENDAR
