BEGIN:VCALENDAR
VERSION:2.0
PRODID:-//OmniMagnetCalendar//EN
BEGIN:VEVENT
DTSTAMP:20190625T195740Z
STATUS:CONFIRMED
UID:hcdc.clubs.harvard.edu2236
DTSTART:20220503T220000Z
DTEND:20220503T230000Z
LOCATION:
SUMMARY: [VIRTUAL] A Conversation with Bestselling Author Kristen Green MPA '09 on The Devil's Half Acre
DESCRIPTION:This is the inspiring and previously untold story of Mary Lumpkin, an enslaved woman, who liberated an infamous slave jail and transformed it into one of the nation's first HBCUs.
BEGIN:VALARM
TRIGGER:-PT15M
ACTION:DISPLAY
END:VALARM
TRANSP:OPAQUE
END:VEVENT
END:VCALENDAR
