BEGIN:VCALENDAR
VERSION:2.0
PRODID:-//OmniMagnetCalendar//EN
BEGIN:VEVENT
DTSTAMP:20190625T195740Z
STATUS:CONFIRMED
UID:hcdc.clubs.harvard.edu1915
DTSTART:20200222T150000Z
DTEND:20200222T170000Z
LOCATION:Great DC Diaper Bank Warehouse, 8860 Monard Drive, Silver Spring, MD, 20910,
SUMMARY: Volunteer at Greater DC Diaper Bank- Joint Princeton Event
DESCRIPTION:Join the Harvard Club of Washington DC and the Princeton Club of Washington DC in supporting the Greater DC Diaper Bank!
BEGIN:VALARM
TRIGGER:-PT15M
ACTION:DISPLAY
END:VALARM
TRANSP:OPAQUE
END:VEVENT
END:VCALENDAR
