BEGIN:VCALENDAR
VERSION:2.0
PRODID:-//OmniMagnetCalendar//EN
BEGIN:VEVENT
DTSTAMP:20190625T195740Z
STATUS:CONFIRMED
UID:hcdc.clubs.harvard.edu1912
DTSTART:20200124T230000Z
DTEND:20200125T010000Z
LOCATION:CHS, 3100 Whitehaven Street, NW, Washington, DC, 20007,
SUMMARY:Harvard's Center for European Studies Invites Members to a Cocktail Reception
DESCRIPTION:Harvard’s Minda de Gunzburg Center for European Studies (CES) and Center for Hellenic Studies (CHS) invite Washington-DC area alumni to a talk  on global challenges and a cocktail reception.
BEGIN:VALARM
TRIGGER:-PT15M
ACTION:DISPLAY
END:VALARM
TRANSP:OPAQUE
END:VEVENT
END:VCALENDAR
