BEGIN:VCALENDAR
VERSION:2.0
PRODID:-//OmniMagnetCalendar//EN
BEGIN:VEVENT
DTSTAMP:20190625T195740Z
STATUS:CONFIRMED
UID:hcdc.clubs.harvard.edu1901
DTSTART:20200107T223000Z
DTEND:20200108T003000Z
LOCATION:PNC Place- DC Headquarters  , 800 17th Street, NW, Washington, DC, 20006,
SUMMARY:KIPP DC Professional Networking Event
DESCRIPTION:Do you remember the person who taught you how to network? Join fellow members of the Harvard Club in helping KIPP DC college-age alumni practice their professional networking skills on Tuesday, January 7th from 5:30pm to 7:30pm.
BEGIN:VALARM
TRIGGER:-PT15M
ACTION:DISPLAY
END:VALARM
TRANSP:OPAQUE
END:VEVENT
END:VCALENDAR
