BEGIN:VCALENDAR
VERSION:2.0
PRODID:-//OmniMagnetCalendar//EN
BEGIN:VEVENT
DTSTAMP:20190625T195740Z
STATUS:CONFIRMED
UID:hcdc.clubs.harvard.edu1884
DTSTART:20191218T233000Z
DTEND:20191219T013000Z
LOCATION:University Club of Wasington, DC, University Hall, 1135 16th St. NW, Washington, DC, 20036, USA,
SUMMARY: SOLD OUT!/Harvard President Bacow Presents The 2019 Public Service Award to David Rubenstein
DESCRIPTION:Please join us in honoring David Rubenstein for his distinguished record of public service to Washington DC and Harvard University.
BEGIN:VALARM
TRIGGER:-PT15M
ACTION:DISPLAY
END:VALARM
TRANSP:OPAQUE
END:VEVENT
END:VCALENDAR
