BEGIN:VCALENDAR
VERSION:2.0
PRODID:-//OmniMagnetCalendar//EN
BEGIN:VEVENT
DTSTAMP:20190625T195740Z
STATUS:CONFIRMED
UID:hcdc.clubs.harvard.edu1882
DTSTART:20191123T163000Z
DTEND:20191123T200000Z
LOCATION:Ireland's Four Courts, 2051 Wilson Boulevard, Arlington, VA, 22201, USA,
SUMMARY:Harvard-Yale Game Watch Party - FREE
DESCRIPTION:All are welcome to attend this watch party at Ireland's Four Courts in Arlington, VA.
BEGIN:VALARM
TRIGGER:-PT15M
ACTION:DISPLAY
END:VALARM
TRANSP:OPAQUE
END:VEVENT
END:VCALENDAR
