BEGIN:VCALENDAR
VERSION:2.0
PRODID:-//OmniMagnetCalendar//EN
BEGIN:VEVENT
DTSTAMP:20190625T195740Z
STATUS:CONFIRMED
UID:hcdc.clubs.harvard.edu1878
DTSTART:20191116T235000Z
DTEND:20191117T045000Z
LOCATION:YMCA Arlington Tennis Center, 3400 North 13th Street, Arlington, VA,  22201,
SUMMARY:Mixed Doubles Tennis Party for IVY / Seven Sisters alumni and their guests
DESCRIPTION:This tennis event is for players of any age over 18.
BEGIN:VALARM
TRIGGER:-PT15M
ACTION:DISPLAY
END:VALARM
TRANSP:OPAQUE
END:VEVENT
END:VCALENDAR
