BEGIN:VCALENDAR
VERSION:2.0
PRODID:-//OmniMagnetCalendar//EN
BEGIN:VEVENT
DTSTAMP:20190625T195740Z
STATUS:CONFIRMED
UID:hcdc.clubs.harvard.edu1848
DTSTART:20190926T220000Z
DTEND:20190927T010006Z
LOCATION:THEARC: Town Hall Education Arts Recreation Campus, 1901 Mississippi Avenue Southeast , Washington, DC, 20020,
SUMMARY:On the Art of Human Care - A Fundraiser for Miriam's Kitchen with Hassan Tetteh M.D. M.P.A. '
DESCRIPTION:Dr. Tetteh and Spoken Word artists from The Poet Life will share stories about the healing power of art and compassion, illuminating the human condition through compelling stories and music to positively change the world. Experience the Art of Healing.
BEGIN:VALARM
TRIGGER:-PT15M
ACTION:DISPLAY
END:VALARM
TRANSP:OPAQUE
END:VEVENT
END:VCALENDAR
