BEGIN:VCALENDAR
VERSION:2.0
PRODID:-//OmniMagnetCalendar//EN
BEGIN:VEVENT
DTSTAMP:20190625T195740Z
STATUS:CONFIRMED
UID:hcdc.clubs.harvard.edu1731
DTSTART:20190205T233000Z
DTEND:20190206T013000Z
LOCATION:Hogan Lovells, 555 13th St NW, Washington, DC, 20004,
SUMMARY:A Dinner Conversation with Susan Subak: Discovering Low Carbon Culture in the USA
DESCRIPTION:Susan Subak will be talking about her new research on low carbon culture in the United States, with a focus on the residential sector in Washington, DC and the commercial sector/higher education institutions nationwide.
BEGIN:VALARM
TRIGGER:-PT15M
ACTION:DISPLAY
END:VALARM
TRANSP:OPAQUE
END:VEVENT
END:VCALENDAR
