BEGIN:VCALENDAR
VERSION:2.0
PRODID:-//OmniMagnetCalendar//EN
BEGIN:VEVENT
DTSTAMP:20190625T195740Z
STATUS:CONFIRMED
UID:hcdc.clubs.harvard.edu1725
DTSTART:20190611T223000Z
DTEND:20190612T000000Z
LOCATION:The University Club of Washington, DC, 1135 16th Street, NW, Washington, DC, 20036, USA,
SUMMARY:SOLD OUT! / June Happy Hour Reception - Hosted by The University Club of Washington, DC
DESCRIPTION:Connect with fellow Harvard alumni.  Learn more about the joint membership opportunity between the Harvard Club and the University Club of Washington, DC. Cocktails (cash bar), hors d'oeuvres, and Clubhouse tours will be offered.
BEGIN:VALARM
TRIGGER:-PT15M
ACTION:DISPLAY
END:VALARM
TRANSP:OPAQUE
END:VEVENT
END:VCALENDAR
