BEGIN:VCALENDAR
VERSION:2.0
PRODID:-//OmniMagnetCalendar//EN
BEGIN:VEVENT
DTSTAMP:20190625T195740Z
STATUS:CONFIRMED
UID:hcdc.clubs.harvard.edu1693
DTSTART:20181203T234500Z
DTEND:20181204T023000Z
LOCATION:Sandbox DC, 3251 Prospect Street, NW, Washington, DC, 20007,
SUMMARY:6th Ivy/Seven Sisters Chess Social
DESCRIPTION:Join us at our next chess social! This is an excellent opportunity to network with Ivy/Seven Sisters alumni and their guests and to take part in casual games.
BEGIN:VALARM
TRIGGER:-PT15M
ACTION:DISPLAY
END:VALARM
TRANSP:OPAQUE
END:VEVENT
END:VCALENDAR
