BEGIN:VCALENDAR
VERSION:2.0
PRODID:-//OmniMagnetCalendar//EN
BEGIN:VEVENT
DTSTAMP:20190625T195740Z
STATUS:CONFIRMED
UID:hcdc.clubs.harvard.edu1641
DTSTART:20180815T223000Z
DTEND:20180816T003000Z
LOCATION:Hogan Lovells, 555 13th St. NW, Washington, DC, 20004,
SUMMARY:How ‘Moneyball’ is Shaping the Sports Industry
DESCRIPTION:MLB, NBA, and NFL teams are utilizing massive amounts of data to assess the effectiveness of players on aspects of the game that were previously unquantifiable.  What’s transpired is an arms race among pro teams to hire the best analysts.
BEGIN:VALARM
TRIGGER:-PT15M
ACTION:DISPLAY
END:VALARM
TRANSP:OPAQUE
END:VEVENT
END:VCALENDAR
