BEGIN:VCALENDAR
VERSION:2.0
PRODID:-//OmniMagnetCalendar//EN
BEGIN:VEVENT
DTSTAMP:20190625T195740Z
STATUS:CONFIRMED
UID:hcdc.clubs.harvard.edu1634
DTSTART:20180724T223000Z
DTEND:20180725T003000Z
LOCATION:Hogan Lovells - room  13.106/107, 555 13th St NW, Washington, DC , 20004,
SUMMARY:A Dinner Conversation with Masood Ahmed: The Future of Global Development
DESCRIPTION:Mr. Ahmed, President of the Center for Global Development, will speak on how broad sociopolitical and economic trends are affecting the future of global development and achievement of the 2030 Sustainable Development Goals.
BEGIN:VALARM
TRIGGER:-PT15M
ACTION:DISPLAY
END:VALARM
TRANSP:OPAQUE
END:VEVENT
END:VCALENDAR
