BEGIN:VCALENDAR
VERSION:2.0
PRODID:-//OmniMagnetCalendar//EN
BEGIN:VEVENT
DTSTAMP:20190625T195740Z
STATUS:CONFIRMED
UID:hcdc.clubs.harvard.edu1566
DTSTART:20180505T150000Z
DTEND:20180505T160000Z
LOCATION:Clara Barton Missing Soldiers Office Museum, 437 7th Street NW, Washington, DC, 20004, USA,
SUMMARY:Private Tour of the Clara Barton Missing Soldiers Office Museum
DESCRIPTION:Tour the rooms where Clara Barton lived and worked during the Civil War.  This  tour is limited to members and their guests and will be led by the museum's site manager Ken Burke.
BEGIN:VALARM
TRIGGER:-PT15M
ACTION:DISPLAY
END:VALARM
TRANSP:OPAQUE
END:VEVENT
END:VCALENDAR
