BEGIN:VCALENDAR
VERSION:2.0
PRODID:-//OmniMagnetCalendar//EN
BEGIN:VEVENT
DTSTAMP:20190625T195740Z
STATUS:CONFIRMED
UID:hcdc.clubs.harvard.edu1560
DTSTART:20180321T223000Z
DTEND:20180322T000000Z
LOCATION:Open Gov Hub space, 1110 Vermont Ave NW, #500, Washington, DC, 20005,
SUMMARY:HAGD Innovation Speaker Series: Stan Byers
DESCRIPTION:We invite technologists, cybersecurity professionals, and development professionals to explore the current and future technological trends and related cybersecurity concerns in the Global South.
BEGIN:VALARM
TRIGGER:-PT15M
ACTION:DISPLAY
END:VALARM
TRANSP:OPAQUE
END:VEVENT
END:VCALENDAR
