BEGIN:VCALENDAR
VERSION:2.0
PRODID:-//OmniMagnetCalendar//EN
BEGIN:VEVENT
DTSTAMP:20190625T195740Z
STATUS:CONFIRMED
UID:hcdc.clubs.harvard.edu1544
DTSTART:20180219T230000Z
DTEND:20180220T010000Z
LOCATION:Ireland's Four Courts (James Joyce Room), 2051 Wilson Boulevard, Arlington, VA, 22201, USA,
SUMMARY:February 19th All Harvard Happy Hour at Ireland's Four Courts - FREE
DESCRIPTION:Meet old friends and make new ones at the February 19th All Harvard Happy Hour in Arlington, VA.  The venue is across from the Courthouse Metro stop.
BEGIN:VALARM
TRIGGER:-PT15M
ACTION:DISPLAY
END:VALARM
TRANSP:OPAQUE
END:VEVENT
END:VCALENDAR
