BEGIN:VCALENDAR
VERSION:2.0
PRODID:-//OmniMagnetCalendar//EN
BEGIN:VEVENT
DTSTAMP:20190625T195740Z
STATUS:CONFIRMED
UID:hcdc.clubs.harvard.edu1523
DTSTART:20180122T233000Z
DTEND:20180123T013000Z
LOCATION:Hogan Lovells, 555 13th Street, 13th Floor, Washington, DC, 20004,
SUMMARY:SOLD OUT!/Global Trends in Smart Cities: A Panel Discussion
DESCRIPTION:How will we create clean, sustainable cities, with fresh food, access to recreation, health care, and transportation?  What kinds of technologies and innovations will be needed?  Join us for a special discussion.
BEGIN:VALARM
TRIGGER:-PT15M
ACTION:DISPLAY
END:VALARM
TRANSP:OPAQUE
END:VEVENT
END:VCALENDAR
