BEGIN:VCALENDAR
VERSION:2.0
PRODID:-//OmniMagnetCalendar//EN
BEGIN:VEVENT
DTSTAMP:20190625T195740Z
STATUS:CONFIRMED
UID:hcdc.clubs.harvard.edu1472
DTSTART:20170930T180000Z
DTEND:20170930T193000Z
LOCATION:Pender Professional Center, 3901 Fair Ridge Dr, Fairfax, VA, 22033,
SUMMARY:SOLD OUT! / Looking for Luke - Film and Conversation
DESCRIPTION:This short film hopes to raise awareness of depression as an illness and de-stigmatize seeking help for mental health issues, two topics of incredible relevance and concern today at college campuses across the country.
BEGIN:VALARM
TRIGGER:-PT15M
ACTION:DISPLAY
END:VALARM
TRANSP:OPAQUE
END:VEVENT
END:VCALENDAR
