BEGIN:VCALENDAR
VERSION:2.0
PRODID:-//OmniMagnetCalendar//EN
BEGIN:VEVENT
DTSTAMP:20190625T195740Z
STATUS:CONFIRMED
UID:hcdc.clubs.harvard.edu1517
DTSTART:20180305T233000Z
DTEND:20180306T013000Z
LOCATION:Hogan Lovells, 555 13th Street NW, 13th Floor, Washington, DC, 20004,
SUMMARY:Challenges to our Democracy: A Dinner Discussion with Trevor Potter
DESCRIPTION:Trevor Potter is President of the Campaign Legal Center (CLC) and a former Chairman of the Federal Election Commission.  He will discuss CLC's work in the areas of government ethics, voting rights, partisan gerrymandering, and money in government issues.
BEGIN:VALARM
TRIGGER:-PT15M
ACTION:DISPLAY
END:VALARM
TRANSP:OPAQUE
END:VEVENT
END:VCALENDAR
